Workbook

Sheet Dashboard
B1: 🎓 RINGKASAN NILAI SISWA
B2: PRATINJAU: angka dan grafik ini terhitung dari sheet Data. Versi lengkap (dropdown, validasi, 300 baris) ada di jadibeli.com.
B4: JUMLAH ENTRI | D4: RATA-RATA NILAI
B5: =COUNTA(Data!$A$4:$A$18) | D5: =IFERROR(AVERAGE(Data!$E$4:$E$18),0)
B7: Grafik
B23: Data pendukung grafik
B25: Jenis Nilai | D25: Jumlah | E25: Persen
B26: Tugas | D26: =COUNTIF(Data!$D$4:$D$18,$B26) | E26: =IFERROR(D26/SUM($D$26:$D$29),0)
B27: UH | D27: =COUNTIF(Data!$D$4:$D$18,$B27) | E27: =IFERROR(D27/SUM($D$26:$D$29),0)
B28: UTS | D28: =COUNTIF(Data!$D$4:$D$18,$B28) | E28: =IFERROR(D28/SUM($D$26:$D$29),0)
B29: UAS | D29: =COUNTIF(Data!$D$4:$D$18,$B29) | E29: =IFERROR(D29/SUM($D$26:$D$29),0)
B30: Total | D30: =SUM(D26:D29) | E30: =SUM(E26:E29)
B33: Bulan | D33: Entri | E33: Total Nilai
B34: =EDATE(DATE(YEAR(TODAY()),MONTH(TODAY()),1),-5) | D34: =COUNTIFS(Data!$A$4:$A$18,">="&$B34,Data!$A$4:$A$18,"<"&EDATE($B34,1)) | E34: =SUMIFS(Data!$E$4:$E$18,Data!$A$4:$A$18,">="&$B34,Data!$A$4:$A$18,"<"&EDATE($B34,1))
B35: =EDATE(DATE(YEAR(TODAY()),MONTH(TODAY()),1),-4) | D35: =COUNTIFS(Data!$A$4:$A$18,">="&$B35,Data!$A$4:$A$18,"<"&EDATE($B35,1)) | E35: =SUMIFS(Data!$E$4:$E$18,Data!$A$4:$A$18,">="&$B35,Data!$A$4:$A$18,"<"&EDATE($B35,1))
B36: =EDATE(DATE(YEAR(TODAY()),MONTH(TODAY()),1),-3) | D36: =COUNTIFS(Data!$A$4:$A$18,">="&$B36,Data!$A$4:$A$18,"<"&EDATE($B36,1)) | E36: =SUMIFS(Data!$E$4:$E$18,Data!$A$4:$A$18,">="&$B36,Data!$A$4:$A$18,"<"&EDATE($B36,1))
B37: =EDATE(DATE(YEAR(TODAY()),MONTH(TODAY()),1),-2) | D37: =COUNTIFS(Data!$A$4:$A$18,">="&$B37,Data!$A$4:$A$18,"<"&EDATE($B37,1)) | E37: =SUMIFS(Data!$E$4:$E$18,Data!$A$4:$A$18,">="&$B37,Data!$A$4:$A$18,"<"&EDATE($B37,1))
B38: =EDATE(DATE(YEAR(TODAY()),MONTH(TODAY()),1),-1) | D38: =COUNTIFS(Data!$A$4:$A$18,">="&$B38,Data!$A$4:$A$18,"<"&EDATE($B38,1)) | E38: =SUMIFS(Data!$E$4:$E$18,Data!$A$4:$A$18,">="&$B38,Data!$A$4:$A$18,"<"&EDATE($B38,1))
B39: =EDATE(DATE(YEAR(TODAY()),MONTH(TODAY()),1),0) | D39: =COUNTIFS(Data!$A$4:$A$18,">="&$B39,Data!$A$4:$A$18,"<"&EDATE($B39,1)) | E39: =SUMIFS(Data!$E$4:$E$18,Data!$A$4:$A$18,">="&$B39,Data!$A$4:$A$18,"<"&EDATE($B39,1))

Sheet Data
A1: 🎓 NILAI SISWA
A2: VERSI PRATINJAU: data contoh dibatasi 15 baris, tanpa dropdown dan validasi. Versi lengkap (300 baris siap isi) tersedia di jadibeli.com.
A3: Tanggal | B3: Nama Siswa | C3: Mata Pelajaran | D3: Jenis Nilai | E3: Nilai | F3: Catatan
A4: 46208 | B4: Contoh nama siswa | C4: Contoh mata pelajaran | D4: Tugas | E4: 72 | F4: Contoh catatan
A5: 46233 | B5: Contoh nama siswa | C5: Contoh mata pelajaran | D5: UH | E5: 77 | F5: Contoh catatan
A6: 46258 | B6: Contoh nama siswa | C6: Contoh mata pelajaran | D6: Tugas | E6: 82 | F6: Contoh catatan
A7: 46276 | B7: Contoh nama siswa | C7: Contoh mata pelajaran | D7: UTS | E7: 87 | F7: Contoh catatan
A8: 46292 | B8: Contoh nama siswa | C8: Contoh mata pelajaran | D8: UH | E8: 92 | F8: Contoh catatan
A9: 46306 | B9: Contoh nama siswa | C9: Contoh mata pelajaran | D9: Tugas | E9: 73 | F9: Contoh catatan
A10: 46319 | B10: Contoh nama siswa | C10: Contoh mata pelajaran | D10: UAS | E10: 78 | F10: Contoh catatan
A11: 46328 | B11: Contoh nama siswa | C11: Contoh mata pelajaran | D11: UH | E11: 83 | F11: Contoh catatan

Sheet Versi Lengkap
B1: VERSI LENGKAP
B3: Yang kamu dapat
B4: 300 baris siap isi, dropdown pilihan, validasi tanggal dan angka, filter di header, serta panduan pemakaian.
B6: Cara mendapatkan
B7: Pesan lewat katalog jadibeli.com, bayar dengan QRIS, lalu unduh setelah pembayaran dikonfirmasi.
B9: Catatan
B10: File ini hanya pratinjau: dibatasi 15 baris dan tidak untuk dijual ulang.
