Workbook

Sheet Dashboard
B1: 🍳 RINGKASAN MEAL PLANNER
B2: PRATINJAU: angka dan grafik ini terhitung dari sheet Data. Versi lengkap (dropdown, validasi, 300 baris) ada di jadibeli.com.
B4: JUMLAH ENTRI | D4: TOTAL PERKIRAAN BIAYA | F4: RATA-RATA PERKIRAAN BIAYA | H4: TERTINGGI PERKIRAAN BIAYA
B5: =COUNTA(Data!$A$4:$A$18) | D5: =SUM(Data!$E$4:$E$18) | F5: =IFERROR(AVERAGE(Data!$E$4:$E$18),0) | H5: =MAX(Data!$E$4:$E$18)
B7: Grafik
B38: Data pendukung grafik
B40: Waktu Makan | D40: Jumlah | E40: Persen | F40: Total Perkiraan Biaya
B41: Sarapan | D41: =COUNTIF(Data!$B$4:$B$18,$B41) | E41: =IFERROR(D41/SUM($D$41:$D$44),0) | F41: =SUMIF(Data!$B$4:$B$18,$B41,Data!$E$4:$E$18)
B42: Makan Siang | D42: =COUNTIF(Data!$B$4:$B$18,$B42) | E42: =IFERROR(D42/SUM($D$41:$D$44),0) | F42: =SUMIF(Data!$B$4:$B$18,$B42,Data!$E$4:$E$18)
B43: Makan Malam | D43: =COUNTIF(Data!$B$4:$B$18,$B43) | E43: =IFERROR(D43/SUM($D$41:$D$44),0) | F43: =SUMIF(Data!$B$4:$B$18,$B43,Data!$E$4:$E$18)
B44: Camilan | D44: =COUNTIF(Data!$B$4:$B$18,$B44) | E44: =IFERROR(D44/SUM($D$41:$D$44),0) | F44: =SUMIF(Data!$B$4:$B$18,$B44,Data!$E$4:$E$18)
B45: Total | D45: =SUM(D41:D44) | E45: =SUM(E41:E44) | F45: =SUM(F41:F44)
B48: Bulan | D48: Entri | E48: Total Perkiraan Biaya
B49: =EDATE(DATE(YEAR(TODAY()),MONTH(TODAY()),1),-5) | D49: =COUNTIFS(Data!$A$4:$A$18,">="&$B49,Data!$A$4:$A$18,"<"&EDATE($B49,1)) | E49: =SUMIFS(Data!$E$4:$E$18,Data!$A$4:$A$18,">="&$B49,Data!$A$4:$A$18,"<"&EDATE($B49,1))
B50: =EDATE(DATE(YEAR(TODAY()),MONTH(TODAY()),1),-4) | D50: =COUNTIFS(Data!$A$4:$A$18,">="&$B50,Data!$A$4:$A$18,"<"&EDATE($B50,1)) | E50: =SUMIFS(Data!$E$4:$E$18,Data!$A$4:$A$18,">="&$B50,Data!$A$4:$A$18,"<"&EDATE($B50,1))
B51: =EDATE(DATE(YEAR(TODAY()),MONTH(TODAY()),1),-3) | D51: =COUNTIFS(Data!$A$4:$A$18,">="&$B51,Data!$A$4:$A$18,"<"&EDATE($B51,1)) | E51: =SUMIFS(Data!$E$4:$E$18,Data!$A$4:$A$18,">="&$B51,Data!$A$4:$A$18,"<"&EDATE($B51,1))
B52: =EDATE(DATE(YEAR(TODAY()),MONTH(TODAY()),1),-2) | D52: =COUNTIFS(Data!$A$4:$A$18,">="&$B52,Data!$A$4:$A$18,"<"&EDATE($B52,1)) | E52: =SUMIFS(Data!$E$4:$E$18,Data!$A$4:$A$18,">="&$B52,Data!$A$4:$A$18,"<"&EDATE($B52,1))
B53: =EDATE(DATE(YEAR(TODAY()),MONTH(TODAY()),1),-1) | D53: =COUNTIFS(Data!$A$4:$A$18,">="&$B53,Data!$A$4:$A$18,"<"&EDATE($B53,1)) | E53: =SUMIFS(Data!$E$4:$E$18,Data!$A$4:$A$18,">="&$B53,Data!$A$4:$A$18,"<"&EDATE($B53,1))
B54: =EDATE(DATE(YEAR(TODAY()),MONTH(TODAY()),1),0) | D54: =COUNTIFS(Data!$A$4:$A$18,">="&$B54,Data!$A$4:$A$18,"<"&EDATE($B54,1)) | E54: =SUMIFS(Data!$E$4:$E$18,Data!$A$4:$A$18,">="&$B54,Data!$A$4:$A$18,"<"&EDATE($B54,1))

Sheet Data
A1: 🍳 MEAL PLANNER
A2: VERSI PRATINJAU: data contoh dibatasi 15 baris, tanpa dropdown dan validasi. Versi lengkap (300 baris siap isi) tersedia di jadibeli.com.
A3: Tanggal | B3: Waktu Makan | C3: Menu | D3: Bahan Utama | E3: Perkiraan Biaya | F3: Status
A4: 46209 | B4: Sarapan | C4: Contoh menu | D4: Contoh bahan utama | E4: 150000 | F4: Rencana
A5: 46234 | B5: Makan Siang | C5: Contoh menu | D5: Contoh bahan utama | E5: 118000 | F5: Sudah Dimasak
A6: 46259 | B6: Sarapan | C6: Contoh menu | D6: Contoh bahan utama | E6: 205000 | F6: Rencana
A7: 46277 | B7: Makan Malam | C7: Contoh menu | D7: Contoh bahan utama | E7: 76000 | F7: Rencana
A8: 46293 | B8: Makan Siang | C8: Contoh menu | D8: Contoh bahan utama | E8: 185000 | F8: Sudah Dimasak
A9: 46307 | B9: Sarapan | C9: Contoh menu | D9: Contoh bahan utama | E9: 92000 | F9: Rencana
A10: 46320 | B10: Camilan | C10: Contoh menu | D10: Contoh bahan utama | E10: 240000 | F10: Sudah Dimasak
A11: 46329 | B11: Makan Siang | C11: Contoh menu | D11: Contoh bahan utama | E11: 64000 | F11: Sudah Dimasak

Sheet Versi Lengkap
B1: VERSI LENGKAP
B3: Yang kamu dapat
B4: 300 baris siap isi, dropdown pilihan, validasi tanggal dan angka, filter di header, serta panduan pemakaian.
B6: Cara mendapatkan
B7: Pesan lewat katalog jadibeli.com, bayar dengan QRIS, lalu unduh setelah pembayaran dikonfirmasi.
B9: Catatan
B10: File ini hanya pratinjau: dibatasi 15 baris dan tidak untuk dijual ulang.
