Workbook

Sheet Dashboard
B1: 📚 RINGKASAN JADWAL BELAJAR
B2: PRATINJAU: angka dan grafik ini terhitung dari sheet Data. Versi lengkap (dropdown, validasi, 300 baris) ada di jadibeli.com.
B4: JUMLAH ENTRI | D4: TOTAL DURASI (MENIT)
B5: =COUNTA(Data!$A$4:$A$18) | D5: =SUM(Data!$D$4:$D$18)
B7: Grafik
B23: Data pendukung grafik
B25: Status | D25: Jumlah | E25: Persen
B26: Rencana | D26: =COUNTIF(Data!$E$4:$E$18,$B26) | E26: =IFERROR(D26/SUM($D$26:$D$27),0)
B27: Selesai | D27: =COUNTIF(Data!$E$4:$E$18,$B27) | E27: =IFERROR(D27/SUM($D$26:$D$27),0)
B28: Total | D28: =SUM(D26:D27) | E28: =SUM(E26:E27)
B31: Bulan | D31: Entri | E31: Total Durasi (menit)
B32: =EDATE(DATE(YEAR(TODAY()),MONTH(TODAY()),1),-5) | D32: =COUNTIFS(Data!$A$4:$A$18,">="&$B32,Data!$A$4:$A$18,"<"&EDATE($B32,1)) | E32: =SUMIFS(Data!$D$4:$D$18,Data!$A$4:$A$18,">="&$B32,Data!$A$4:$A$18,"<"&EDATE($B32,1))
B33: =EDATE(DATE(YEAR(TODAY()),MONTH(TODAY()),1),-4) | D33: =COUNTIFS(Data!$A$4:$A$18,">="&$B33,Data!$A$4:$A$18,"<"&EDATE($B33,1)) | E33: =SUMIFS(Data!$D$4:$D$18,Data!$A$4:$A$18,">="&$B33,Data!$A$4:$A$18,"<"&EDATE($B33,1))
B34: =EDATE(DATE(YEAR(TODAY()),MONTH(TODAY()),1),-3) | D34: =COUNTIFS(Data!$A$4:$A$18,">="&$B34,Data!$A$4:$A$18,"<"&EDATE($B34,1)) | E34: =SUMIFS(Data!$D$4:$D$18,Data!$A$4:$A$18,">="&$B34,Data!$A$4:$A$18,"<"&EDATE($B34,1))
B35: =EDATE(DATE(YEAR(TODAY()),MONTH(TODAY()),1),-2) | D35: =COUNTIFS(Data!$A$4:$A$18,">="&$B35,Data!$A$4:$A$18,"<"&EDATE($B35,1)) | E35: =SUMIFS(Data!$D$4:$D$18,Data!$A$4:$A$18,">="&$B35,Data!$A$4:$A$18,"<"&EDATE($B35,1))
B36: =EDATE(DATE(YEAR(TODAY()),MONTH(TODAY()),1),-1) | D36: =COUNTIFS(Data!$A$4:$A$18,">="&$B36,Data!$A$4:$A$18,"<"&EDATE($B36,1)) | E36: =SUMIFS(Data!$D$4:$D$18,Data!$A$4:$A$18,">="&$B36,Data!$A$4:$A$18,"<"&EDATE($B36,1))
B37: =EDATE(DATE(YEAR(TODAY()),MONTH(TODAY()),1),0) | D37: =COUNTIFS(Data!$A$4:$A$18,">="&$B37,Data!$A$4:$A$18,"<"&EDATE($B37,1)) | E37: =SUMIFS(Data!$D$4:$D$18,Data!$A$4:$A$18,">="&$B37,Data!$A$4:$A$18,"<"&EDATE($B37,1))

Sheet Data
A1: 📚 JADWAL BELAJAR
A2: VERSI PRATINJAU: data contoh dibatasi 15 baris, tanpa dropdown dan validasi. Versi lengkap (300 baris siap isi) tersedia di jadibeli.com.
A3: Tanggal | B3: Mata Pelajaran | C3: Materi | D3: Durasi (menit) | E3: Status | F3: Catatan
A4: 46209 | B4: Contoh mata pelajaran | C4: Contoh materi | D4: 20 | E4: Rencana | F4: Contoh catatan
A5: 46234 | B5: Contoh mata pelajaran | C5: Contoh materi | D5: 27 | E5: Selesai | F5: Contoh catatan
A6: 46259 | B6: Contoh mata pelajaran | C6: Contoh materi | D6: 34 | E6: Rencana | F6: Contoh catatan
A7: 46277 | B7: Contoh mata pelajaran | C7: Contoh materi | D7: 41 | E7: Rencana | F7: Contoh catatan
A8: 46293 | B8: Contoh mata pelajaran | C8: Contoh materi | D8: 48 | E8: Selesai | F8: Contoh catatan
A9: 46307 | B9: Contoh mata pelajaran | C9: Contoh materi | D9: 55 | E9: Rencana | F9: Contoh catatan
A10: 46320 | B10: Contoh mata pelajaran | C10: Contoh materi | D10: 22 | E10: Selesai | F10: Contoh catatan
A11: 46329 | B11: Contoh mata pelajaran | C11: Contoh materi | D11: 29 | E11: Selesai | F11: Contoh catatan

Sheet Versi Lengkap
B1: VERSI LENGKAP
B3: Yang kamu dapat
B4: 300 baris siap isi, dropdown pilihan, validasi tanggal dan angka, filter di header, serta panduan pemakaian.
B6: Cara mendapatkan
B7: Pesan lewat katalog jadibeli.com, bayar dengan QRIS, lalu unduh setelah pembayaran dikonfirmasi.
B9: Catatan
B10: File ini hanya pratinjau: dibatasi 15 baris dan tidak untuk dijual ulang.
