Workbook

Sheet Dashboard
B1: 💸 RINGKASAN GAJI & LEMBUR KARYAWAN
B2: PRATINJAU: angka dan grafik ini terhitung dari sheet Data. Versi lengkap (dropdown, validasi, 300 baris) ada di jadibeli.com.
B4: JUMLAH ENTRI | D4: TOTAL GAJI BERSIH | F4: RATA-RATA GAJI BERSIH | H4: TERTINGGI GAJI BERSIH
B5: =COUNTA(Data!$A$4:$A$18) | D5: =SUM(Data!$F$4:$F$18) | F5: =IFERROR(AVERAGE(Data!$F$4:$F$18),0) | H5: =MAX(Data!$F$4:$F$18)
B7: TOTAL GAJI POKOK | D7: RATA-RATA GAJI POKOK | F7: TERTINGGI GAJI POKOK | H7: TOTAL LEMBUR
B8: =SUM(Data!$C$4:$C$18) | D8: =IFERROR(AVERAGE(Data!$C$4:$C$18),0) | F8: =MAX(Data!$C$4:$C$18) | H8: =SUM(Data!$D$4:$D$18)
B10: Grafik
B26: Data pendukung grafik
B28: Bulan | D28: Entri | E28: Total Gaji Bersih
B29: =EDATE(DATE(YEAR(TODAY()),MONTH(TODAY()),1),-5) | D29: =COUNTIFS(Data!$A$4:$A$18,">="&$B29,Data!$A$4:$A$18,"<"&EDATE($B29,1)) | E29: =SUMIFS(Data!$F$4:$F$18,Data!$A$4:$A$18,">="&$B29,Data!$A$4:$A$18,"<"&EDATE($B29,1))
B30: =EDATE(DATE(YEAR(TODAY()),MONTH(TODAY()),1),-4) | D30: =COUNTIFS(Data!$A$4:$A$18,">="&$B30,Data!$A$4:$A$18,"<"&EDATE($B30,1)) | E30: =SUMIFS(Data!$F$4:$F$18,Data!$A$4:$A$18,">="&$B30,Data!$A$4:$A$18,"<"&EDATE($B30,1))
B31: =EDATE(DATE(YEAR(TODAY()),MONTH(TODAY()),1),-3) | D31: =COUNTIFS(Data!$A$4:$A$18,">="&$B31,Data!$A$4:$A$18,"<"&EDATE($B31,1)) | E31: =SUMIFS(Data!$F$4:$F$18,Data!$A$4:$A$18,">="&$B31,Data!$A$4:$A$18,"<"&EDATE($B31,1))
B32: =EDATE(DATE(YEAR(TODAY()),MONTH(TODAY()),1),-2) | D32: =COUNTIFS(Data!$A$4:$A$18,">="&$B32,Data!$A$4:$A$18,"<"&EDATE($B32,1)) | E32: =SUMIFS(Data!$F$4:$F$18,Data!$A$4:$A$18,">="&$B32,Data!$A$4:$A$18,"<"&EDATE($B32,1))
B33: =EDATE(DATE(YEAR(TODAY()),MONTH(TODAY()),1),-1) | D33: =COUNTIFS(Data!$A$4:$A$18,">="&$B33,Data!$A$4:$A$18,"<"&EDATE($B33,1)) | E33: =SUMIFS(Data!$F$4:$F$18,Data!$A$4:$A$18,">="&$B33,Data!$A$4:$A$18,"<"&EDATE($B33,1))
B34: =EDATE(DATE(YEAR(TODAY()),MONTH(TODAY()),1),0) | D34: =COUNTIFS(Data!$A$4:$A$18,">="&$B34,Data!$A$4:$A$18,"<"&EDATE($B34,1)) | E34: =SUMIFS(Data!$F$4:$F$18,Data!$A$4:$A$18,">="&$B34,Data!$A$4:$A$18,"<"&EDATE($B34,1))

Sheet Data
A1: 💸 GAJI & LEMBUR KARYAWAN
A2: VERSI PRATINJAU: data contoh dibatasi 15 baris, tanpa dropdown dan validasi. Versi lengkap (300 baris siap isi) tersedia di jadibeli.com.
A3: Tanggal | B3: Nama Karyawan | C3: Gaji Pokok | D3: Lembur | E3: Potongan | F3: Gaji Bersih (otomatis)
A4: 46208 | B4: Contoh nama karyawan | C4: 240000 | D4: 64000 | E4: 150000 | F4: =IF(COUNTA(C4,D4,E4)=0,"",N(C4)+N(D4)-N(E4))
A5: 46233 | B5: Contoh nama karyawan | C5: 64000 | D5: 150000 | E5: 118000 | F5: =IF(COUNTA(C5,D5,E5)=0,"",N(C5)+N(D5)-N(E5))
A6: 46258 | B6: Contoh nama karyawan | C6: 150000 | D6: 118000 | E6: 205000 | F6: =IF(COUNTA(C6,D6,E6)=0,"",N(C6)+N(D6)-N(E6))
A7: 46276 | B7: Contoh nama karyawan | C7: 118000 | D7: 205000 | E7: 76000 | F7: =IF(COUNTA(C7,D7,E7)=0,"",N(C7)+N(D7)-N(E7))
A8: 46292 | B8: Contoh nama karyawan | C8: 205000 | D8: 76000 | E8: 185000 | F8: =IF(COUNTA(C8,D8,E8)=0,"",N(C8)+N(D8)-N(E8))
A9: 46306 | B9: Contoh nama karyawan | C9: 76000 | D9: 185000 | E9: 92000 | F9: =IF(COUNTA(C9,D9,E9)=0,"",N(C9)+N(D9)-N(E9))
A10: 46319 | B10: Contoh nama karyawan | C10: 185000 | D10: 92000 | E10: 240000 | F10: =IF(COUNTA(C10,D10,E10)=0,"",N(C10)+N(D10)-N(E10))
A11: 46328 | B11: Contoh nama karyawan | C11: 92000 | D11: 240000 | E11: 64000 | F11: =IF(COUNTA(C11,D11,E11)=0,"",N(C11)+N(D11)-N(E11))
F12: =IF(COUNTA(C12,D12,E12)=0,"",N(C12)+N(D12)-N(E12))
F13: =IF(COUNTA(C13,D13,E13)=0,"",N(C13)+N(D13)-N(E13))
F14: =IF(COUNTA(C14,D14,E14)=0,"",N(C14)+N(D14)-N(E14))
F15: =IF(COUNTA(C15,D15,E15)=0,"",N(C15)+N(D15)-N(E15))
F16: =IF(COUNTA(C16,D16,E16)=0,"",N(C16)+N(D16)-N(E16))
F17: =IF(COUNTA(C17,D17,E17)=0,"",N(C17)+N(D17)-N(E17))
F18: =IF(COUNTA(C18,D18,E18)=0,"",N(C18)+N(D18)-N(E18))

Sheet Versi Lengkap
B1: VERSI LENGKAP
B3: Yang kamu dapat
B4: 300 baris siap isi, dropdown pilihan, validasi tanggal dan angka, filter di header, serta panduan pemakaian.
B6: Cara mendapatkan
B7: Pesan lewat katalog jadibeli.com, bayar dengan QRIS, lalu unduh setelah pembayaran dikonfirmasi.
B9: Catatan
B10: File ini hanya pratinjau: dibatasi 15 baris dan tidak untuk dijual ulang.
