Workbook

Sheet Dashboard
B1: 📋 RINGKASAN DAFTAR PESANAN
B2: PRATINJAU: angka dan grafik ini terhitung dari sheet Data. Versi lengkap (dropdown, validasi, 300 baris) ada di jadibeli.com.
B4: JUMLAH ENTRI | D4: TOTAL TAGIHAN | F4: RATA-RATA TOTAL TAGIHAN | H4: TERTINGGI TOTAL TAGIHAN
B5: =COUNTA(Data!$A$4:$A$18) | D5: =SUM(Data!$G$4:$G$18) | F5: =IFERROR(AVERAGE(Data!$G$4:$G$18),0) | H5: =MAX(Data!$G$4:$G$18)
B7: TOTAL QTY
B8: =SUM(Data!$E$4:$E$18)
B10: Grafik
B41: Data pendukung grafik
B43: Status | D43: Jumlah | E43: Persen | F43: Total Tagihan
B44: Baru | D44: =COUNTIF(Data!$H$4:$H$18,$B44) | E44: =IFERROR(D44/SUM($D$44:$D$48),0) | F44: =SUMIF(Data!$H$4:$H$18,$B44,Data!$G$4:$G$18)
B45: Diproses | D45: =COUNTIF(Data!$H$4:$H$18,$B45) | E45: =IFERROR(D45/SUM($D$44:$D$48),0) | F45: =SUMIF(Data!$H$4:$H$18,$B45,Data!$G$4:$G$18)
B46: Dikirim | D46: =COUNTIF(Data!$H$4:$H$18,$B46) | E46: =IFERROR(D46/SUM($D$44:$D$48),0) | F46: =SUMIF(Data!$H$4:$H$18,$B46,Data!$G$4:$G$18)
B47: Selesai | D47: =COUNTIF(Data!$H$4:$H$18,$B47) | E47: =IFERROR(D47/SUM($D$44:$D$48),0) | F47: =SUMIF(Data!$H$4:$H$18,$B47,Data!$G$4:$G$18)
B48: Batal | D48: =COUNTIF(Data!$H$4:$H$18,$B48) | E48: =IFERROR(D48/SUM($D$44:$D$48),0) | F48: =SUMIF(Data!$H$4:$H$18,$B48,Data!$G$4:$G$18)
B49: Total | D49: =SUM(D44:D48) | E49: =SUM(E44:E48) | F49: =SUM(F44:F48)
B52: Bulan | D52: Entri | E52: Total Tagihan
B53: =EDATE(DATE(YEAR(TODAY()),MONTH(TODAY()),1),-5) | D53: =COUNTIFS(Data!$A$4:$A$18,">="&$B53,Data!$A$4:$A$18,"<"&EDATE($B53,1)) | E53: =SUMIFS(Data!$G$4:$G$18,Data!$A$4:$A$18,">="&$B53,Data!$A$4:$A$18,"<"&EDATE($B53,1))
B54: =EDATE(DATE(YEAR(TODAY()),MONTH(TODAY()),1),-4) | D54: =COUNTIFS(Data!$A$4:$A$18,">="&$B54,Data!$A$4:$A$18,"<"&EDATE($B54,1)) | E54: =SUMIFS(Data!$G$4:$G$18,Data!$A$4:$A$18,">="&$B54,Data!$A$4:$A$18,"<"&EDATE($B54,1))
B55: =EDATE(DATE(YEAR(TODAY()),MONTH(TODAY()),1),-3) | D55: =COUNTIFS(Data!$A$4:$A$18,">="&$B55,Data!$A$4:$A$18,"<"&EDATE($B55,1)) | E55: =SUMIFS(Data!$G$4:$G$18,Data!$A$4:$A$18,">="&$B55,Data!$A$4:$A$18,"<"&EDATE($B55,1))
B56: =EDATE(DATE(YEAR(TODAY()),MONTH(TODAY()),1),-2) | D56: =COUNTIFS(Data!$A$4:$A$18,">="&$B56,Data!$A$4:$A$18,"<"&EDATE($B56,1)) | E56: =SUMIFS(Data!$G$4:$G$18,Data!$A$4:$A$18,">="&$B56,Data!$A$4:$A$18,"<"&EDATE($B56,1))
B57: =EDATE(DATE(YEAR(TODAY()),MONTH(TODAY()),1),-1) | D57: =COUNTIFS(Data!$A$4:$A$18,">="&$B57,Data!$A$4:$A$18,"<"&EDATE($B57,1)) | E57: =SUMIFS(Data!$G$4:$G$18,Data!$A$4:$A$18,">="&$B57,Data!$A$4:$A$18,"<"&EDATE($B57,1))
B58: =EDATE(DATE(YEAR(TODAY()),MONTH(TODAY()),1),0) | D58: =COUNTIFS(Data!$A$4:$A$18,">="&$B58,Data!$A$4:$A$18,"<"&EDATE($B58,1)) | E58: =SUMIFS(Data!$G$4:$G$18,Data!$A$4:$A$18,">="&$B58,Data!$A$4:$A$18,"<"&EDATE($B58,1))

Sheet Data
A1: 📋 DAFTAR PESANAN
A2: VERSI PRATINJAU: data contoh dibatasi 15 baris, tanpa dropdown dan validasi. Versi lengkap (300 baris siap isi) tersedia di jadibeli.com.
A3: Tanggal | B3: No. Pesanan | C3: Pelanggan | D3: Produk | E3: Qty | F3: Harga Satuan | G3: Total Tagihan (otomatis) | H3: Status
A4: 46208 | B4: Contoh no. pesanan | C4: Contoh pelanggan | D4: Contoh produk | E4: 4 | F4: 118000 | G4: =IF(OR(E4="",F4=""),"",E4*F4) | H4: Baru
A5: 46233 | B5: Contoh no. pesanan | C5: Contoh pelanggan | D5: Contoh produk | E5: 5 | F5: 205000 | G5: =IF(OR(E5="",F5=""),"",E5*F5) | H5: Diproses
A6: 46258 | B6: Contoh no. pesanan | C6: Contoh pelanggan | D6: Contoh produk | E6: 7 | F6: 76000 | G6: =IF(OR(E6="",F6=""),"",E6*F6) | H6: Baru
A7: 46276 | B7: Contoh no. pesanan | C7: Contoh pelanggan | D7: Contoh produk | E7: 3 | F7: 185000 | G7: =IF(OR(E7="",F7=""),"",E7*F7) | H7: Dikirim
A8: 46292 | B8: Contoh no. pesanan | C8: Contoh pelanggan | D8: Contoh produk | E8: 3 | F8: 92000 | G8: =IF(OR(E8="",F8=""),"",E8*F8) | H8: Diproses
A9: 46306 | B9: Contoh no. pesanan | C9: Contoh pelanggan | D9: Contoh produk | E9: 6 | F9: 240000 | G9: =IF(OR(E9="",F9=""),"",E9*F9) | H9: Baru
A10: 46319 | B10: Contoh no. pesanan | C10: Contoh pelanggan | D10: Contoh produk | E10: 2 | F10: 64000 | G10: =IF(OR(E10="",F10=""),"",E10*F10) | H10: Selesai
A11: 46328 | B11: Contoh no. pesanan | C11: Contoh pelanggan | D11: Contoh produk | E11: 8 | F11: 150000 | G11: =IF(OR(E11="",F11=""),"",E11*F11) | H11: Diproses
G12: =IF(OR(E12="",F12=""),"",E12*F12)
G13: =IF(OR(E13="",F13=""),"",E13*F13)
G14: =IF(OR(E14="",F14=""),"",E14*F14)
G15: =IF(OR(E15="",F15=""),"",E15*F15)
G16: =IF(OR(E16="",F16=""),"",E16*F16)
G17: =IF(OR(E17="",F17=""),"",E17*F17)
G18: =IF(OR(E18="",F18=""),"",E18*F18)

Sheet Versi Lengkap
B1: VERSI LENGKAP
B3: Yang kamu dapat
B4: 300 baris siap isi, dropdown pilihan, validasi tanggal dan angka, filter di header, serta panduan pemakaian.
B6: Cara mendapatkan
B7: Pesan lewat katalog jadibeli.com, bayar dengan QRIS, lalu unduh setelah pembayaran dikonfirmasi.
B9: Catatan
B10: File ini hanya pratinjau: dibatasi 15 baris dan tidak untuk dijual ulang.
