Workbook

Sheet Dashboard
B1: 📦 RINGKASAN STOK BARANG
B2: PRATINJAU: angka dan grafik ini terhitung dari sheet Data. Versi lengkap (dropdown, validasi, 300 baris) ada di jadibeli.com.
B4: JUMLAH ENTRI | D4: TOTAL SISA STOK | F4: TOTAL STOK MASUK | H4: TOTAL STOK KELUAR
B5: =COUNTA(Data!$A$4:$A$18) | D5: =SUM(Data!$G$4:$G$18) | F5: =SUM(Data!$E$4:$E$18) | H5: =SUM(Data!$F$4:$F$18)
B7: Grafik
B23: Data pendukung grafik
B25: Bulan | D25: Entri | E25: Total Sisa Stok
B26: =EDATE(DATE(YEAR(TODAY()),MONTH(TODAY()),1),-5) | D26: =COUNTIFS(Data!$A$4:$A$18,">="&$B26,Data!$A$4:$A$18,"<"&EDATE($B26,1)) | E26: =SUMIFS(Data!$G$4:$G$18,Data!$A$4:$A$18,">="&$B26,Data!$A$4:$A$18,"<"&EDATE($B26,1))
B27: =EDATE(DATE(YEAR(TODAY()),MONTH(TODAY()),1),-4) | D27: =COUNTIFS(Data!$A$4:$A$18,">="&$B27,Data!$A$4:$A$18,"<"&EDATE($B27,1)) | E27: =SUMIFS(Data!$G$4:$G$18,Data!$A$4:$A$18,">="&$B27,Data!$A$4:$A$18,"<"&EDATE($B27,1))
B28: =EDATE(DATE(YEAR(TODAY()),MONTH(TODAY()),1),-3) | D28: =COUNTIFS(Data!$A$4:$A$18,">="&$B28,Data!$A$4:$A$18,"<"&EDATE($B28,1)) | E28: =SUMIFS(Data!$G$4:$G$18,Data!$A$4:$A$18,">="&$B28,Data!$A$4:$A$18,"<"&EDATE($B28,1))
B29: =EDATE(DATE(YEAR(TODAY()),MONTH(TODAY()),1),-2) | D29: =COUNTIFS(Data!$A$4:$A$18,">="&$B29,Data!$A$4:$A$18,"<"&EDATE($B29,1)) | E29: =SUMIFS(Data!$G$4:$G$18,Data!$A$4:$A$18,">="&$B29,Data!$A$4:$A$18,"<"&EDATE($B29,1))
B30: =EDATE(DATE(YEAR(TODAY()),MONTH(TODAY()),1),-1) | D30: =COUNTIFS(Data!$A$4:$A$18,">="&$B30,Data!$A$4:$A$18,"<"&EDATE($B30,1)) | E30: =SUMIFS(Data!$G$4:$G$18,Data!$A$4:$A$18,">="&$B30,Data!$A$4:$A$18,"<"&EDATE($B30,1))
B31: =EDATE(DATE(YEAR(TODAY()),MONTH(TODAY()),1),0) | D31: =COUNTIFS(Data!$A$4:$A$18,">="&$B31,Data!$A$4:$A$18,"<"&EDATE($B31,1)) | E31: =SUMIFS(Data!$G$4:$G$18,Data!$A$4:$A$18,">="&$B31,Data!$A$4:$A$18,"<"&EDATE($B31,1))

Sheet Data
A1: 📦 STOK BARANG
A2: VERSI PRATINJAU: data contoh dibatasi 15 baris, tanpa dropdown dan validasi. Versi lengkap (300 baris siap isi) tersedia di jadibeli.com.
A3: Tanggal | B3: Kode Barang | C3: Nama Barang | D3: Kategori | E3: Stok Masuk | F3: Stok Keluar | G3: Sisa Stok (otomatis) | H3: Harga Beli
A4: 46209 | B4: Contoh kode barang | C4: Contoh nama barang | D4: Contoh kategori | E4: 4 | F4: 5 | G4: =IF(COUNTA(E4,F4)=0,"",N(E4)-N(F4)) | H4: 76000
A5: 46234 | B5: Contoh kode barang | C5: Contoh nama barang | D5: Contoh kategori | E5: 5 | F5: 7 | G5: =IF(COUNTA(E5,F5)=0,"",N(E5)-N(F5)) | H5: 185000
A6: 46259 | B6: Contoh kode barang | C6: Contoh nama barang | D6: Contoh kategori | E6: 7 | F6: 3 | G6: =IF(COUNTA(E6,F6)=0,"",N(E6)-N(F6)) | H6: 92000
A7: 46277 | B7: Contoh kode barang | C7: Contoh nama barang | D7: Contoh kategori | E7: 3 | F7: 3 | G7: =IF(COUNTA(E7,F7)=0,"",N(E7)-N(F7)) | H7: 240000
A8: 46293 | B8: Contoh kode barang | C8: Contoh nama barang | D8: Contoh kategori | E8: 3 | F8: 6 | G8: =IF(COUNTA(E8,F8)=0,"",N(E8)-N(F8)) | H8: 64000
A9: 46307 | B9: Contoh kode barang | C9: Contoh nama barang | D9: Contoh kategori | E9: 6 | F9: 2 | G9: =IF(COUNTA(E9,F9)=0,"",N(E9)-N(F9)) | H9: 150000
A10: 46320 | B10: Contoh kode barang | C10: Contoh nama barang | D10: Contoh kategori | E10: 2 | F10: 8 | G10: =IF(COUNTA(E10,F10)=0,"",N(E10)-N(F10)) | H10: 118000
A11: 46329 | B11: Contoh kode barang | C11: Contoh nama barang | D11: Contoh kategori | E11: 8 | F11: 4 | G11: =IF(COUNTA(E11,F11)=0,"",N(E11)-N(F11)) | H11: 205000
G12: =IF(COUNTA(E12,F12)=0,"",N(E12)-N(F12))
G13: =IF(COUNTA(E13,F13)=0,"",N(E13)-N(F13))
G14: =IF(COUNTA(E14,F14)=0,"",N(E14)-N(F14))
G15: =IF(COUNTA(E15,F15)=0,"",N(E15)-N(F15))
G16: =IF(COUNTA(E16,F16)=0,"",N(E16)-N(F16))
G17: =IF(COUNTA(E17,F17)=0,"",N(E17)-N(F17))
G18: =IF(COUNTA(E18,F18)=0,"",N(E18)-N(F18))

Sheet Versi Lengkap
B1: VERSI LENGKAP
B3: Yang kamu dapat
B4: 300 baris siap isi, dropdown pilihan, validasi tanggal dan angka, filter di header, serta panduan pemakaian.
B6: Cara mendapatkan
B7: Pesan lewat katalog jadibeli.com, bayar dengan QRIS, lalu unduh setelah pembayaran dikonfirmasi.
B9: Catatan
B10: File ini hanya pratinjau: dibatasi 15 baris dan tidak untuk dijual ulang.
