Workbook

Sheet Dashboard
B1: 🧮 RINGKASAN ARUS KAS USAHA KECIL
B2: PRATINJAU: angka dan grafik ini terhitung dari sheet Data. Versi lengkap (dropdown, validasi, 300 baris) ada di jadibeli.com.
B4: JUMLAH ENTRI | D4: TOTAL SALDO BERSIH | F4: RATA-RATA SALDO BERSIH | H4: TERTINGGI SALDO BERSIH
B5: =COUNTA(Data!$A$4:$A$18) | D5: =SUM(Data!$F$4:$F$18) | F5: =IFERROR(AVERAGE(Data!$F$4:$F$18),0) | H5: =MAX(Data!$F$4:$F$18)
B7: TOTAL KAS MASUK | D7: RATA-RATA KAS MASUK | F7: TERTINGGI KAS MASUK | H7: TOTAL KAS KELUAR
B8: =SUM(Data!$D$4:$D$18) | D8: =IFERROR(AVERAGE(Data!$D$4:$D$18),0) | F8: =MAX(Data!$D$4:$D$18) | H8: =SUM(Data!$E$4:$E$18)
B10: Grafik
B41: Data pendukung grafik
B43: Kategori | D43: Jumlah | E43: Persen | F43: Total Saldo Bersih
B44: Penjualan | D44: =COUNTIF(Data!$C$4:$C$18,$B44) | E44: =IFERROR(D44/SUM($D$44:$D$49),0) | F44: =SUMIF(Data!$C$4:$C$18,$B44,Data!$F$4:$F$18)
B45: Modal | D45: =COUNTIF(Data!$C$4:$C$18,$B45) | E45: =IFERROR(D45/SUM($D$44:$D$49),0) | F45: =SUMIF(Data!$C$4:$C$18,$B45,Data!$F$4:$F$18)
B46: Operasional | D46: =COUNTIF(Data!$C$4:$C$18,$B46) | E46: =IFERROR(D46/SUM($D$44:$D$49),0) | F46: =SUMIF(Data!$C$4:$C$18,$B46,Data!$F$4:$F$18)
B47: Gaji | D47: =COUNTIF(Data!$C$4:$C$18,$B47) | E47: =IFERROR(D47/SUM($D$44:$D$49),0) | F47: =SUMIF(Data!$C$4:$C$18,$B47,Data!$F$4:$F$18)
B48: Pajak | D48: =COUNTIF(Data!$C$4:$C$18,$B48) | E48: =IFERROR(D48/SUM($D$44:$D$49),0) | F48: =SUMIF(Data!$C$4:$C$18,$B48,Data!$F$4:$F$18)
B49: Lainnya | D49: =COUNTIF(Data!$C$4:$C$18,$B49) | E49: =IFERROR(D49/SUM($D$44:$D$49),0) | F49: =SUMIF(Data!$C$4:$C$18,$B49,Data!$F$4:$F$18)
B50: Total | D50: =SUM(D44:D49) | E50: =SUM(E44:E49) | F50: =SUM(F44:F49)
B53: Bulan | D53: Entri | E53: Total Saldo Bersih
B54: =EDATE(DATE(YEAR(TODAY()),MONTH(TODAY()),1),-5) | D54: =COUNTIFS(Data!$A$4:$A$18,">="&$B54,Data!$A$4:$A$18,"<"&EDATE($B54,1)) | E54: =SUMIFS(Data!$F$4:$F$18,Data!$A$4:$A$18,">="&$B54,Data!$A$4:$A$18,"<"&EDATE($B54,1))
B55: =EDATE(DATE(YEAR(TODAY()),MONTH(TODAY()),1),-4) | D55: =COUNTIFS(Data!$A$4:$A$18,">="&$B55,Data!$A$4:$A$18,"<"&EDATE($B55,1)) | E55: =SUMIFS(Data!$F$4:$F$18,Data!$A$4:$A$18,">="&$B55,Data!$A$4:$A$18,"<"&EDATE($B55,1))
B56: =EDATE(DATE(YEAR(TODAY()),MONTH(TODAY()),1),-3) | D56: =COUNTIFS(Data!$A$4:$A$18,">="&$B56,Data!$A$4:$A$18,"<"&EDATE($B56,1)) | E56: =SUMIFS(Data!$F$4:$F$18,Data!$A$4:$A$18,">="&$B56,Data!$A$4:$A$18,"<"&EDATE($B56,1))
B57: =EDATE(DATE(YEAR(TODAY()),MONTH(TODAY()),1),-2) | D57: =COUNTIFS(Data!$A$4:$A$18,">="&$B57,Data!$A$4:$A$18,"<"&EDATE($B57,1)) | E57: =SUMIFS(Data!$F$4:$F$18,Data!$A$4:$A$18,">="&$B57,Data!$A$4:$A$18,"<"&EDATE($B57,1))
B58: =EDATE(DATE(YEAR(TODAY()),MONTH(TODAY()),1),-1) | D58: =COUNTIFS(Data!$A$4:$A$18,">="&$B58,Data!$A$4:$A$18,"<"&EDATE($B58,1)) | E58: =SUMIFS(Data!$F$4:$F$18,Data!$A$4:$A$18,">="&$B58,Data!$A$4:$A$18,"<"&EDATE($B58,1))
B59: =EDATE(DATE(YEAR(TODAY()),MONTH(TODAY()),1),0) | D59: =COUNTIFS(Data!$A$4:$A$18,">="&$B59,Data!$A$4:$A$18,"<"&EDATE($B59,1)) | E59: =SUMIFS(Data!$F$4:$F$18,Data!$A$4:$A$18,">="&$B59,Data!$A$4:$A$18,"<"&EDATE($B59,1))

Sheet Data
A1: 🧮 ARUS KAS USAHA KECIL
A2: VERSI PRATINJAU: data contoh dibatasi 15 baris, tanpa dropdown dan validasi. Versi lengkap (300 baris siap isi) tersedia di jadibeli.com.
A3: Tanggal | B3: Uraian | C3: Kategori | D3: Kas Masuk | E3: Kas Keluar | F3: Saldo Bersih (otomatis)
A4: 46208 | B4: Contoh uraian | C4: Penjualan | D4: 64000 | E4: 150000 | F4: =IF(COUNTA(D4,E4)=0,"",N(D4)-N(E4))
A5: 46233 | B5: Contoh uraian | C5: Modal | D5: 150000 | E5: 118000 | F5: =IF(COUNTA(D5,E5)=0,"",N(D5)-N(E5))
A6: 46258 | B6: Contoh uraian | C6: Penjualan | D6: 118000 | E6: 205000 | F6: =IF(COUNTA(D6,E6)=0,"",N(D6)-N(E6))
A7: 46276 | B7: Contoh uraian | C7: Operasional | D7: 205000 | E7: 76000 | F7: =IF(COUNTA(D7,E7)=0,"",N(D7)-N(E7))
A8: 46292 | B8: Contoh uraian | C8: Modal | D8: 76000 | E8: 185000 | F8: =IF(COUNTA(D8,E8)=0,"",N(D8)-N(E8))
A9: 46306 | B9: Contoh uraian | C9: Penjualan | D9: 185000 | E9: 92000 | F9: =IF(COUNTA(D9,E9)=0,"",N(D9)-N(E9))
A10: 46319 | B10: Contoh uraian | C10: Gaji | D10: 92000 | E10: 240000 | F10: =IF(COUNTA(D10,E10)=0,"",N(D10)-N(E10))
A11: 46328 | B11: Contoh uraian | C11: Modal | D11: 240000 | E11: 64000 | F11: =IF(COUNTA(D11,E11)=0,"",N(D11)-N(E11))
F12: =IF(COUNTA(D12,E12)=0,"",N(D12)-N(E12))
F13: =IF(COUNTA(D13,E13)=0,"",N(D13)-N(E13))
F14: =IF(COUNTA(D14,E14)=0,"",N(D14)-N(E14))
F15: =IF(COUNTA(D15,E15)=0,"",N(D15)-N(E15))
F16: =IF(COUNTA(D16,E16)=0,"",N(D16)-N(E16))
F17: =IF(COUNTA(D17,E17)=0,"",N(D17)-N(E17))
F18: =IF(COUNTA(D18,E18)=0,"",N(D18)-N(E18))

Sheet Versi Lengkap
B1: VERSI LENGKAP
B3: Yang kamu dapat
B4: 300 baris siap isi, dropdown pilihan, validasi tanggal dan angka, filter di header, serta panduan pemakaian.
B6: Cara mendapatkan
B7: Pesan lewat katalog jadibeli.com, bayar dengan QRIS, lalu unduh setelah pembayaran dikonfirmasi.
B9: Catatan
B10: File ini hanya pratinjau: dibatasi 15 baris dan tidak untuk dijual ulang.
